BEGIN:VCALENDAR
VERSION:2.0
PRODID:-//wp-events-plugin.com//7.2.3.1//EN
TZID:Europe/Berlin
X-WR-TIMEZONE:Europe/Berlin
BEGIN:VEVENT
UID:0-362@blogs.hrz.tu-freiberg.de
DTSTART;TZID=Europe/Berlin:20260909T090000
DTEND;TZID=Europe/Berlin:20260909T160000
DTSTAMP:20260310T151858Z
URL:https://blogs.hrz.tu-freiberg.de/grafa/workshopuebersicht/souveraen-au
 ftreten-klar-kommunizieren/
SUMMARY:Souverän auftreten. Klar kommunizieren. Wirkung entfalten - Selbst
 bewusst und durchsetzungsstark in Diskussionen\, Meetings und  herausforde
 rnden Situationen
DESCRIPTION:Viele Wissenschaftlerinnen erleben Situationen in Meetings\, Di
 skussionen oder Konferenzen\, in denen sie ihre Kompetenz zwar fachlich so
 uverän vertreten können – sich jedoch in der persönlichen Wirkung uns
 icher fühlen. Gerade in von Hierarchien und männlich geprägten Kommunik
 ationsmustern geprägten Kontexten braucht es neben fachlicher Exzellenz a
 uch Klarheit\, Präsenz und Durchsetzungsvermögen.\nDieser praxisorientie
 rte Workshop unterstützt Wissenschaftlerinnen dabei\, ihre Wirkung bewuss
 t zu gestalten\, souverän aufzutreten und auch in herausfordernden Gespr
 ächssituationen schlagfertig und klar zu reagieren.\nZiele des Workshops\
 n\nDie Teilnehmerinnen:\n- stärken ihr sicheres und selbstbewusstes Auftr
 eten\n- entwickeln eine klare\, souveräne Körpersprache\n- lernen\, in D
 iskussionen direkt und professionell zu kontern\n- gewinnen rhetorische Si
 cherheit in spontanen Situationen\n- erweitern ihr Durchsetzungsvermögen 
 – auch gegenüber männlichen Peers und Vorgesetzten\n- reflektieren eig
 ene Kommunikationsmuster und Wirkung\n\nInhalte\n- souveränes Auftreten u
 nd innere Haltung\n- Präsenz und Statusverhalten\n- Umgang mit Nervositä
 t und innerem Druck\n- Selbstsicherheit ausstrahlen – auch in anspruchsv
 ollen Situationen\n\n- Körpersprache gezielt einsetzen\n- Wirkung von Sti
 mme\, Haltung und Blickkontakt\n- Raum einnehmen und Präsenz zeigen\n- No
 nverbale Signale bewusst steuern\n\n- Schlagfertigkeit und rhetorische Kla
 rheit\n- Techniken für spontanes Kontern\n- Umgang mit Unterbrechungen\, 
 Relativierungen oder abwertenden\nKommentaren\n\nDieser Workshop wird in K
 ooperation vom GRK2802 und NOWA für Wissenschaftlerinnen der TUBAF angebo
 ten.\n\nDatum:\n\n09. September 2026 (09:00-16:00 Uhr)\, ZeHS (EG 133)\n\n
 10. September 2026 (09:00-16:00 Uhr)\, ZeHS (EG 133)\n\nÜbersicht\n\n\n\n
 Trainer\nChristiane Keller-Zimmermann\n\n\nFormat\nin Präsenz\n\n\nGebüh
 r\nkeine Gebühr für Angehörige der TUBAF\n\n\nSprache\nDeutsch\n\n\nLer
 npunkte\n\n0\,5\n\n\nArbeitseinheiten (AE)\n16\n\n\nFinanziell geförtert 
 durch\n\nGraduiertenkolleg 2802\n\n\nAnmeldefrist\n06. September 2026\n\n\
 n\n\n\nHier können Sie sich zum Kurs anmelden.\nBitte füllen Sie die Fel
 der sorgfältig aus. Ihre Daten werden für die Kursorganisation genutzt.
CATEGORIES:Workshop
LOCATION:ZeHS\, Winklerstraße 5\, 09599\, Deutschland
X-APPLE-STRUCTURED-LOCATION;VALUE=URI;X-ADDRESS=Winklerstraße 5\, 09599\, 
 Deutschland;X-APPLE-RADIUS=100;X-TITLE=ZeHS:geo:0,0
END:VEVENT
BEGIN:VTIMEZONE
TZID:Europe/Berlin
X-LIC-LOCATION:Europe/Berlin
BEGIN:DAYLIGHT
DTSTART:20260329T030000
TZOFFSETFROM:+0100
TZOFFSETTO:+0200
TZNAME:CEST
END:DAYLIGHT
END:VTIMEZONE
END:VCALENDAR