BEGIN:VCALENDAR
VERSION:2.0
PRODID:-//wp-events-plugin.com//7.2.3.1//EN
TZID:Europe/Berlin
X-WR-TIMEZONE:Europe/Berlin
BEGIN:VEVENT
UID:0-318@blogs.hrz.tu-freiberg.de
DTSTART;TZID=Europe/Berlin:20260427T090000
DTEND;TZID=Europe/Berlin:20260427T160000
DTSTAMP:20260306T102454Z
URL:https://blogs.hrz.tu-freiberg.de/grafa/workshopuebersicht/wertschaetze
 nde-kommunikation-auch-in-schwierigen-gespraechssituationen/
SUMMARY:Wertschätzende Kommunikation (auch in schwierigen Gesprächssituat
 ionen)
DESCRIPTION:Inhalt\nIn unserem beruflichen (und privaten) Alltag findet st
 ändig Kommunikation statt\, sei es mit Kolleg/innen\, der Führungskraft\
 , Studierenden und vielen Anderen.\nDabei kommt es auch immer wieder zu sc
 hwierigen Gesprächssituationen\,\ngerade in Druck- und Stresssituationen.
  Eine gute Gesprächskompetenz ist\ndaher ein entscheidender Erfolgsfaktor
  im Arbeitsalltag.\nIm Workshop werden die Grundlagen einer wertschätzend
 en\, deeskalierenden Kommunikation diskutiert und der eigene Kommunikation
 sstil wird reflektiert.\nZiel ist es\, Handlungsstrategien zu entwickeln\,
  um auch in schwierigen\nSituationen professionell zu kommunizieren.\nSchw
 erpunkt\n\n• Grundlagen wertschätzender Kommunikation\n• Reflexion de
 s eigenen Kommunikationsstils\n• wirksame Feedbackgespräche führen: au
 ch schwierige Themen  konstruktiv ansprechen\n• zwei Methoden für ziel
 führende Gespräche: aktives Zuhören und Fragetechniken\n• durch gute 
 Gesprächsvorbereitung eigene Ziele erreichen\n• schwierige Gespräche z
 ielorientiert führen\n\nMethoden\n\nImpulse\, Diskussion\, Kleingruppenar
 beit\, Erfahrungsaustausch\, Selbstreflexion\n\nÜbersicht\n\n\n\nTrainer\
 nDr. Kathrin Carl\n\n\nFormat\nonline\n\n\nGebühr\nkeine Gebühr für Ang
 ehörige der TUBAF\n\n\nSprache\nDeutsch\n\n\nLernpunkte\n\n0\,25\n\n\nArb
 eitseinheiten (AE)\n8\n\n\nFinanziell geförtert durch\n\nDr. Erich-Krüge
 r Stiftung\n\n\nAnmeldefrist\n25. April 2026\n\n\n\nHier können Sie sich 
 zum Kurs anmelden.\nBitte füllen Sie die Felder sorgfältig aus. Ihre Dat
 en werden für die Kursorganisation genutzt.
CATEGORIES:Workshop
END:VEVENT
BEGIN:VTIMEZONE
TZID:Europe/Berlin
X-LIC-LOCATION:Europe/Berlin
BEGIN:DAYLIGHT
DTSTART:20260329T030000
TZOFFSETFROM:+0100
TZOFFSETTO:+0200
TZNAME:CEST
END:DAYLIGHT
END:VTIMEZONE
END:VCALENDAR