BEGIN:VCALENDAR
VERSION:2.0
PRODID:-//wp-events-plugin.com//7.2.3.1//EN
TZID:Europe/Berlin
X-WR-TIMEZONE:Europe/Berlin
BEGIN:VEVENT
UID:0-365@blogs.hrz.tu-freiberg.de
DTSTART;TZID=Europe/Berlin:20260521T140000
DTEND;TZID=Europe/Berlin:20260521T170000
DTSTAMP:20260414T130444Z
URL:https://blogs.hrz.tu-freiberg.de/grafa/workshopuebersicht/zeig-wer-du-
 bist-deine-perspektive-gestaltet-die-zukunft/
SUMMARY:Zeig\, wer du bist. Deine Perspektive gestaltet die Zukunft.
DESCRIPTION:Inhalt\n\nDeine Arbeit verdient Aufmerksamkeit. Du auch.\n\nNOW
 A lädt dich herzlich ein zu einem Workshop für alle Mitarbeiterinnen der
  TUBAF ein. Er ist für Frauen konzipiert\, die ihre Sichtbarkeit im beruf
 lichen Umfeld gezielt stärken möchten.\n\nWas erwartet dich?\n\nDu erarb
 eitest dein persönliches Profil und deine individuelle Botschaft: Was zei
 chnet meine Arbeit aus? Was treibt mich an? Wie trage ich mit meiner Arbei
 t für andere Menschen bei? Und wie kann ich das nach außen kommunizieren
 ?Um dich wirklich im Wortsinn sichtbar zu machen\,  gibt es außerdem ein
  professionelles Fotoshooting\, bei dem ein authentisches Portrait von dir
  entsteht.\n\nWozu dienen die Ergebnisse?\n\nDie erarbeiteten Profile und 
 das Foto stehen dir für deine eigene Wissenschaftskommunikation zur Verf
 ügung\, bspw. für Vorträge\, Social Media oder die nächste Bewerbung. 
 Darüber hinaus werden die (Kurz)Profile mit deiner Zustimmung im Rahmen d
 er Nacht der Wissenschaft und Wirtschaft präsentiert und machen die Fraue
 n an der TUBAF für ein breites Publikum sichtbar.\n\nFür wen ist der Wor
 kshop gedacht?\n\nFür alle Frauen unserer Universität – unabhängig vo
 n Karrierestufe oder Fachbereich\; egal ob Mitarbeiterin in der Verwaltung
  oder Labor\, Doktorandin\, Postdoc oder Professorin.\n\nDatum\n\n21.05.20
 26 (14:00 - 17:00 Uhr)\, im ZeHS (EG 133)\n\nÜbersicht\n\n\n\nTrainer\nDr
 . Anja Solf-Hofbauer und Dr. Katja Schaldach\n\n\nFormat\nin Präsenz\n\n\
 nZielgruppe\nWissenschaftlerinnen\, Wissenschaftsmanagerinnen\, Mitarbeite
 rinnen der TUBAF\n\n\nKosten\nkeine Kosten für Mitglieder der TUBAF\n\n\n
 Sprache\nDeutsch\n\n\nFinanzierung durch\nRektoratskommission Chancengleic
 hheit\n\n\n\n\n\nHier können Sie sich zum Kurs anmelden.\nBitte füllen S
 ie die Felder sorgfältig aus. Ihre Daten werden für die Kursorganisation
  genutzt.
CATEGORIES:Workshop
LOCATION:ZeHS\, Winklerstraße 5\, 09599\, Deutschland
X-APPLE-STRUCTURED-LOCATION;VALUE=URI;X-ADDRESS=Winklerstraße 5\, 09599\, 
 Deutschland;X-APPLE-RADIUS=100;X-TITLE=ZeHS:geo:0,0
END:VEVENT
BEGIN:VTIMEZONE
TZID:Europe/Berlin
X-LIC-LOCATION:Europe/Berlin
BEGIN:DAYLIGHT
DTSTART:20260329T030000
TZOFFSETFROM:+0100
TZOFFSETTO:+0200
TZNAME:CEST
END:DAYLIGHT
END:VTIMEZONE
END:VCALENDAR