BEGIN:VCALENDAR
VERSION:2.0
PRODID:-//SAMSax - ECPv6.15.20//NONSGML v1.0//EN
CALSCALE:GREGORIAN
METHOD:PUBLISH
X-WR-CALNAME:SAMSax
X-ORIGINAL-URL:https://blogs.hrz.tu-freiberg.de/samsax
X-WR-CALDESC:Veranstaltungen für SAMSax
REFRESH-INTERVAL;VALUE=DURATION:PT1H
X-Robots-Tag:noindex
X-PUBLISHED-TTL:PT1H
BEGIN:VTIMEZONE
TZID:Europe/Berlin
BEGIN:DAYLIGHT
TZOFFSETFROM:+0100
TZOFFSETTO:+0200
TZNAME:CEST
DTSTART:20220327T010000
END:DAYLIGHT
BEGIN:STANDARD
TZOFFSETFROM:+0200
TZOFFSETTO:+0100
TZNAME:CET
DTSTART:20221030T010000
END:STANDARD
BEGIN:DAYLIGHT
TZOFFSETFROM:+0100
TZOFFSETTO:+0200
TZNAME:CEST
DTSTART:20230326T010000
END:DAYLIGHT
BEGIN:STANDARD
TZOFFSETFROM:+0200
TZOFFSETTO:+0100
TZNAME:CET
DTSTART:20231029T010000
END:STANDARD
BEGIN:DAYLIGHT
TZOFFSETFROM:+0100
TZOFFSETTO:+0200
TZNAME:CEST
DTSTART:20240331T010000
END:DAYLIGHT
BEGIN:STANDARD
TZOFFSETFROM:+0200
TZOFFSETTO:+0100
TZNAME:CET
DTSTART:20241027T010000
END:STANDARD
END:VTIMEZONE
BEGIN:VEVENT
DTSTART;TZID=Europe/Berlin:20230301T090000
DTEND;TZID=Europe/Berlin:20230301T130000
DTSTAMP:20260421T133030
CREATED:20230118T074528Z
LAST-MODIFIED:20230118T074528Z
UID:519-1677661200-1677675600@blogs.hrz.tu-freiberg.de
SUMMARY:4. Fachtagung Nachhaltigkeit - digitale Nachhaltigkeitswoche 2023
DESCRIPTION:Die 4. Fachtagung zur Nachhaltigkeit 2023 der Finanzgruppe Nord-Ostdeutsche Sparkassenakademie vom 28.02.2023 bis zum 03.03.2023 zielt darauf ab\, zahlreiche Impulse und Anregungen für die nachhaltige Ausrichtung der Sparkasse zu vermitteln. Sie haben dabei die Möglichkeit\, sich entweder für einzelne Tage oder die gesamte Tagung anzumelden. \nAm 01.03.2023 (V-060851) hält Prof. Dr.-Ing. Henning Zeidler online von 12:10 – 12:30 Uhr einen interessanten Vortrag zum Thema „Landet unser Biomüll künftig im 3D-Drucker? – Ein innovativer Ansatz für die Kreislaufwirtschaft„. \nSeien Sie dabei! Wir freuen uns auf Sie. \nWeitere Informationen sowie die Anmeldung zur 4. Fachtagung Nachhaltigkeit 2023 erhalten Sie auf der Veranstalter-Website. \n 
URL:https://blogs.hrz.tu-freiberg.de/samsax/event/4-fachtagung-nachhaltigkeit-digitale-nachhaltigkeitswoche-2023/
LOCATION:Webex\, Deutschland
END:VEVENT
BEGIN:VEVENT
DTSTART;TZID=Europe/Berlin:20230310T113000
DTEND;TZID=Europe/Berlin:20230310T115000
DTSTAMP:20260421T133030
CREATED:20221209T064447Z
LAST-MODIFIED:20221209T064447Z
UID:261-1678447800-1678449000@blogs.hrz.tu-freiberg.de
SUMMARY:Intec in Leipzig
DESCRIPTION:Die Intec ist die internationale Fachmesse für Werkzeugmaschinen\, Fertigungs- und Automatisierungstechnik. Wir sind auch mit dabei! Treffen Sie uns auf dem Fachforum „Additive Fertigung – Evolution einer modernen Technologie“ auf der Intec in Leipzig. Dort halten wir  von 11.30 Uhr bis 11.50 Uhr einen Vortrag über die ersten Ergebnisse aus dem Reallabor. Sie finden uns in Halle 3 Stand D52.
URL:https://blogs.hrz.tu-freiberg.de/samsax/event/intec-exkursion-aus-freiberg-vortrag-samsax-auf-am-forum/
LOCATION:Messe Leipzig\, Messe-Allee 1\, Leipzig\, Sachsen\, 04356\, Deutschland
ORGANIZER;CN="Leipziger Messe GmbH":MAILTO:info@leipziger-messe.de
END:VEVENT
BEGIN:VEVENT
DTSTART;TZID=Europe/Berlin:20230323T160000
DTEND;TZID=Europe/Berlin:20230323T180000
DTSTAMP:20260421T133030
CREATED:20230117T135533Z
LAST-MODIFIED:20240304T080432Z
UID:517-1679587200-1679594400@blogs.hrz.tu-freiberg.de
SUMMARY:Besichtigung des SAMSax-Reallabors
DESCRIPTION:Besuchen Sie zum ersten Mal unser SAMSax-Reallabor an der TU Bergakademie Freiberg! \nAn diesem Tag haben Sie die Möglichkeit\, sich unser Reallabor anzuschauen und hautnah zu erleben. Wir möchten Sie in einem kurzen Vortrag über unser Vorhaben informieren sowie Ihnen die möglichen Anwendungen vorstellen. \nDie Teilnahme ist kostenlos. \nBitte beachten Sie\, dass nur eine begrenzte Anzahl an Teilnehmenden im Reallabor möglich ist. \n\n\nFür die Reallabor-Besichtigung anmelden\n\n\nWir freuen uns auf Sie! \n\n\n\nAnmeldung für die Reallabor-Besichtigung\n\n\n  \n\n\n\n Anrede\nBitte wählen Sie eine OptionFrauHerrDivers \n \n Titel\n \n \n Vorname\n \n \n Nachname\n \n \n Firma/Institution\n \n \n Position\n \n \n Straße\, Nr.\n \n \n PLZ\, Ort\n \n \n Telefon\n \n \n E-Mail-Adresse\n \n \n\n \n\n\n\nMit Absenden des Formulars erkläre ich mich einverstanden\, dass meine in das Formular eingegebenen Daten elektronisch gespeichert und zum Zweck der Kontaktaufnahme sowie der Veranstaltung verarbeitet und genutzt werden. Mir ist bekannt\, dass ich meine Einwilligung jederzeit widerrufen kann.
URL:https://blogs.hrz.tu-freiberg.de/samsax/event/besichtigung-des-samsax-reallabors/
LOCATION:SAMSax-Reallabor\, Lampadiusstraße 7\, Freiberg\, Sachsen\, 09599\, Deutschland
ATTACH;FMTTYPE=image/jpeg:https://blogs.hrz.tu-freiberg.de/samsax/wp-content/uploads/sites/129/2022/12/N6Z_5962-1-Final.jpg
ORGANIZER;CN="SAMSax":MAILTO:info@samsax.de
END:VEVENT
BEGIN:VEVENT
DTSTART;TZID=Europe/Berlin:20230330T130000
DTEND;TZID=Europe/Berlin:20230330T200000
DTSTAMP:20260421T133030
CREATED:20230202T132550Z
LAST-MODIFIED:20230202T132550Z
UID:547-1680181200-1680206400@blogs.hrz.tu-freiberg.de
SUMMARY:futureSAX-Innovationsforum: Innovationstreiber Energie - Wettbewerbsfähigkeit zukunftssicher gestalten durch branchenübergreifende Anwendungspotenziale "Made in Saxony"
DESCRIPTION:Wenn Sie erfahren möchten\, wie Innovationsprozesse effektiver gestaltet werden können\, dann kommen Sie beim futureSAX-Innovationsforum am 30.März in Mittweida vorbei. Das SAMSax-Team ist als Aussteller vor Ort für Sie da. Wir freuen uns bereits darauf\, mit Ihnen in den Austausch zu treten und sich mit Ihnen zu vernetzen. \nMelden Sie sich an und seien Sie dabei!
URL:https://blogs.hrz.tu-freiberg.de/samsax/event/futuresax-innovationsforum-innovationstreiber-energie-wettbewerbsfaehigkeit-zukunftssicher-gestalten-durch-branchenuebergreifende-anwendungspotenziale-made-in-saxony/
LOCATION:Wasserkraftwerk Mittweida\, Weinsdorfer Str. 39\, Mittweida\, 09648
END:VEVENT
END:VCALENDAR