BEGIN:VCALENDAR
VERSION:2.0
PRODID:-//SAMSax - ECPv6.15.20//NONSGML v1.0//EN
CALSCALE:GREGORIAN
METHOD:PUBLISH
X-WR-CALNAME:SAMSax
X-ORIGINAL-URL:https://blogs.hrz.tu-freiberg.de/samsax
X-WR-CALDESC:Veranstaltungen für SAMSax
REFRESH-INTERVAL;VALUE=DURATION:PT1H
X-Robots-Tag:noindex
X-PUBLISHED-TTL:PT1H
BEGIN:VTIMEZONE
TZID:Europe/Berlin
BEGIN:DAYLIGHT
TZOFFSETFROM:+0100
TZOFFSETTO:+0200
TZNAME:CEST
DTSTART:20220327T010000
END:DAYLIGHT
BEGIN:STANDARD
TZOFFSETFROM:+0200
TZOFFSETTO:+0100
TZNAME:CET
DTSTART:20221030T010000
END:STANDARD
BEGIN:DAYLIGHT
TZOFFSETFROM:+0100
TZOFFSETTO:+0200
TZNAME:CEST
DTSTART:20230326T010000
END:DAYLIGHT
BEGIN:STANDARD
TZOFFSETFROM:+0200
TZOFFSETTO:+0100
TZNAME:CET
DTSTART:20231029T010000
END:STANDARD
BEGIN:DAYLIGHT
TZOFFSETFROM:+0100
TZOFFSETTO:+0200
TZNAME:CEST
DTSTART:20240331T010000
END:DAYLIGHT
BEGIN:STANDARD
TZOFFSETFROM:+0200
TZOFFSETTO:+0100
TZNAME:CET
DTSTART:20241027T010000
END:STANDARD
END:VTIMEZONE
BEGIN:VEVENT
DTSTART;VALUE=DATE:20230509
DTEND;VALUE=DATE:20230512
DTSTAMP:20260421T103321
CREATED:20221209T065040Z
LAST-MODIFIED:20221209T065040Z
UID:263-1683590400-1683849599@blogs.hrz.tu-freiberg.de
SUMMARY:Rapid.Tech 3D
DESCRIPTION:Auf der Rapid.Tech 3D in Erfurt können Sie sich über den Stand und Fortschritt des Rapid Prototypings bis hin zur Umsetzung von Endprodukten mit Hilfe der additiven Fertigung informieren. \nBesuchen Sie uns an unserem Stand (Halle 2\, Standnummer: 2-524) und lernen Sie uns sowie unser Vorhaben kennen.
URL:https://blogs.hrz.tu-freiberg.de/samsax/event/rapid-tech-3d/
LOCATION:Messe Erfurt\, Gothaer Str. 34\, Erfurt\, Thüringen\, 99094\, Deutschland
ORGANIZER;CN="Messe Erfurt GmbH":MAILTO:info@messe-erfurt.de
END:VEVENT
END:VCALENDAR