BEGIN:VCALENDAR
VERSION:2.0
PRODID:-//wp-events-plugin.com//7.2.3.1//EN
TZID:Europe/Berlin
X-WR-TIMEZONE:Europe/Berlin
BEGIN:VEVENT
UID:0-390@blogs.hrz.tu-freiberg.de
DTSTART;TZID=Europe/Berlin:20230712T130000
DTEND;TZID=Europe/Berlin:20230712T140000
DTSTAMP:20230725T072033Z
URL:https://blogs.hrz.tu-freiberg.de/ub/events/fis_tubaf/
SUMMARY:Ein Forschungsinformationssystem für die TUBAF
DESCRIPTION:Wer forscht woran mit wem?\nWir wollen die Forschungsleistungen
  der TU Bergakademie Freiberg sichtbarer machen.\nAngesichts des stetig wa
 chsenden Wettbewerbs um Studierende\, wissenschaftliches Personal und Fors
 chungsförderung\, steigender Berichtspflichten\, Transfer- und Transparen
 zbestrebungen plant die TU Bergakademie Freiberg ein modernes Forschungsin
 formationsmanagement umzusetzen.\nDas Rektorat hat daher die Einführung e
 ines Forschungsinformationssystems (FIS) beschlossen\, das die aktuell dez
 entral vorliegenden Informationen zu den zahlreichen Forschungsaktivitäte
 n und -ergebnissen der Freiberger Wissenschaftler:innen nutzbringend zusam
 menführt und die Basis für eine transparente Außendarstellung schafft.\
 n\n[caption id="attachment_7653" align="alignright" width="344"] (Lizenz: 
 CC-BY-SA Franziska Mau)[/caption]\n\nDa die Sammlung\, Aufbereitung und Be
 reitstellung wissenschaftlicher Informationen zu den Kernkompetenzen der U
 niversitätsbibliothek gehört\, wurde ihr die Leitung des Projektes „FI
 S@TUBAF“ übertragen.\nWas bedeutet das alles für Sie?\nDazu laden wir 
 Sie zu einer gemeinsamen Informationsveranstaltung des Prorektorats Forsch
 ung\, Internationales und Transfer und der Universitätsbibliothek ein.\n\
 nOrt: Schulungsraum der UB (Obergeschoss) und online über Big Blue Button
 \nAblauf\n\n 	13.00 Uhr: Begrüßung durch Prof. Dr. Jörg Matschullat\n 	
 13.10 Uhr: Hintergrund\, Konzeptvorstellung und Stand der Umsetzung des FI
 S (Dr. Stefanie Nagel)\n 	13:40 Uhr: Möglichkeit für Fragen (Moderation 
 Prof. Dr. Jörg Matschullat)\n\nSollten Sie bereits im Vorfeld Fragen zum 
 FIS haben\, schreiben Sie diese an fis@ub.tu-freiberg.de\, dann können wi
 r auf diese im Rahmen der Informationsveranstaltung gezielter eingehen.\nP
 räsentation\nDie Präsentation (PDF-Datei) finden Sie hier.\n\nIhr FIS-Te
 am
ATTACH;FMTTYPE=image/jpeg:https://blogs.hrz.tu-freiberg.de/ub/wp-content/u
 ploads/sites/5/2023/06/FIS-kl.png
CATEGORIES:NewsWebsite,Vortrag
LOCATION:Universitätsbibliothek\, Winklerstraße 3\, Freiberg\, Sachsen\, 
 09599\, Deutschland
GEO:50.925071;13.340192
X-APPLE-STRUCTURED-LOCATION;VALUE=URI;X-ADDRESS=Winklerstraße 3\, Freiberg
 \, Sachsen\, 09599\, Deutschland;X-APPLE-RADIUS=100;X-TITLE=Universitätsb
 ibliothek:geo:50.925071,13.340192
END:VEVENT
BEGIN:VTIMEZONE
TZID:Europe/Berlin
X-LIC-LOCATION:Europe/Berlin
BEGIN:DAYLIGHT
DTSTART:20230326T030000
TZOFFSETFROM:+0100
TZOFFSETTO:+0200
TZNAME:CEST
END:DAYLIGHT
END:VTIMEZONE
END:VCALENDAR